BEGIN:VCALENDAR
VERSION:2.0
PRODID:-//Tukios.com/
BEGIN:VEVENT
UID:13f62179-0ccc-41ea-a3c3-441004de67cf@www.resthavenbatonrouge.com
DTSTAMP:20260423T235649Z
DTSTART:20260607T190000Z
DTEND:20260607T200000Z
SUMMARY:Memorial Service
DESCRIPTION:
URL:https://www.resthavenbatonrouge.com/obituaries/antoinette-foster
LOCATION:Resthaven Gardens of Memory & Funeral Home 11817 Jefferson Hwy.  
	Baton Rouge LA 70816
GEO:30.3958591;-91.0471445
END:VEVENT
END:VCALENDAR