BEGIN:VCALENDAR
VERSION:2.0
PRODID:-//Tukios.com/
BEGIN:VEVENT
UID:e9df5563-7029-41d0-b551-ef9451c8711c@www.resthavenbatonrouge.com
DTSTAMP:20260425T200626Z
DTSTART:20260501T200000Z
DTEND:20260501T210000Z
SUMMARY:Funeral Service
DESCRIPTION:
URL:https://www.resthavenbatonrouge.com/obituaries/brenda-manske
LOCATION:Resthaven Funeral Home 11817 Jefferson Hwy  Baton Rouge LA 70816
GEO:30.3958591;-91.0471445
END:VEVENT
END:VCALENDAR