BEGIN:VCALENDAR
VERSION:2.0
PRODID:-//Tukios.com/
BEGIN:VEVENT
UID:d8829249-fcf7-4b1e-9db0-6ff4c9d1b1df@www.resthavenbatonrouge.com
DTSTAMP:20260425T200218Z
DTSTART:20260501T180000Z
DTEND:20260501T200000Z
SUMMARY:Visitation
DESCRIPTION:
URL:https://www.resthavenbatonrouge.com/obituaries/brenda-manske
LOCATION:Resthaven Funeral Home 11817 Jefferson Hwy  Baton Rouge LA 70816
GEO:30.3958591;-91.0471445
END:VEVENT
END:VCALENDAR