BEGIN:VCALENDAR
VERSION:2.0
PRODID:-//Tukios.com/
BEGIN:VEVENT
UID:8b2cebc9-5577-433d-818e-33b1199eee3a@www.resthavenbatonrouge.com
DTSTAMP:20260425T200728Z
DTSTART:20260501T203000Z
DTEND:20260501T213000Z
SUMMARY:Burial
DESCRIPTION:
URL:https://www.resthavenbatonrouge.com/obituaries/brenda-manske
LOCATION: 11817 Jefferson Hwy  Baton Rouge LA 70816
GEO:30.3958591;-91.0471445
END:VEVENT
END:VCALENDAR