BEGIN:VCALENDAR
VERSION:2.0
PRODID:-//Tukios.com/
BEGIN:VEVENT
UID:fbae27e6-7271-4692-a304-9f8c4c8aa713@www.resthavenbatonrouge.com
DTSTAMP:20260423T215112Z
DTSTART:20260502T200000Z
DTEND:20260502T210000Z
SUMMARY:Memorial Service
DESCRIPTION:
URL:https://www.resthavenbatonrouge.com/obituaries/britney-moss-buchanan
LOCATION:Resthaven Gardens of Memory & Funeral Home 11817 Jefferson Hwy  
	Baton Rouge LA 70816
GEO:30.3958591;-91.0471445
END:VEVENT
END:VCALENDAR