BEGIN:VCALENDAR
VERSION:2.0
PRODID:-//Tukios.com/
BEGIN:VEVENT
UID:9a50e607-0cb0-4093-8102-9c569f57bd47@www.resthavenbatonrouge.com
DTSTAMP:20260423T214744Z
DTSTART:20260502T190000Z
DTEND:20260502T200000Z
SUMMARY:Visitation
DESCRIPTION:
URL:https://www.resthavenbatonrouge.com/obituaries/britney-moss-buchanan
LOCATION:Resthaven Chapel 11817 Jefferson Hwy  Baton Rouge LA 70816
GEO:30.3958591;-91.0471445
END:VEVENT
END:VCALENDAR