BEGIN:VCALENDAR
VERSION:2.0
PRODID:-//Tukios.com/
BEGIN:VEVENT
UID:99e75d0a-4adf-4f52-b512-f183f57125de@www.resthavenbatonrouge.com
DTSTAMP:20260420T225211Z
DTSTART:20260502T160000Z
DTEND:20260502T170000Z
SUMMARY:Funeral Service
DESCRIPTION:
URL:https://www.resthavenbatonrouge.com/obituaries/chien-nguyen
LOCATION:St. Anthony Catholic Church 2305 Choctaw Drive  Baton Rouge LA 
	70805
GEO:30.4703589;-91.1660471
END:VEVENT
END:VCALENDAR