BEGIN:VCALENDAR
VERSION:2.0
PRODID:-//Tukios.com/
BEGIN:VEVENT
UID:170777da-b97c-4d3f-8be0-a0390b99155a@www.resthavenbatonrouge.com
DTSTAMP:20260420T225049Z
DTSTART:20260501T230000Z
DTEND:20260502T020000Z
SUMMARY:Visitation
DESCRIPTION:
URL:https://www.resthavenbatonrouge.com/obituaries/chien-nguyen
LOCATION:Resthaven Funeral Home 11817 Jefferson Hwy  Baton Rouge LA 70816
GEO:30.3958591;-91.0471445
END:VEVENT
END:VCALENDAR