BEGIN:VCALENDAR
VERSION:2.0
PRODID:-//Tukios.com/
BEGIN:VEVENT
UID:f55b8794-c22e-451a-b8c5-67c4ddac415d@www.resthavenbatonrouge.com
DTSTAMP:20260420T224409Z
DTSTART:20260430T230000Z
DTEND:20260501T020000Z
SUMMARY:Visitation
DESCRIPTION:
URL:https://www.resthavenbatonrouge.com/obituaries/chien-nguyen
LOCATION:Resthaven Funeral Home 11817 Jefferson Hwy  Baton Rouge LA 70816
GEO:30.3958591;-91.0471445
END:VEVENT
END:VCALENDAR