BEGIN:VCALENDAR
VERSION:2.0
PRODID:-//Tukios.com/
BEGIN:VEVENT
UID:725bb30a-fa04-4c67-b197-94b61fc98b0b@www.resthavenbatonrouge.com
DTSTAMP:20260420T224333Z
DTSTART:20260502T173000Z
DTEND:20260502T183000Z
SUMMARY:Burial
DESCRIPTION:
URL:https://www.resthavenbatonrouge.com/obituaries/chien-nguyen
LOCATION: 11817 Jefferson Hwy  Baton Rouge LA 70816
GEO:30.3958591;-91.0471445
END:VEVENT
END:VCALENDAR