BEGIN:VCALENDAR
VERSION:2.0
PRODID:-//Tukios.com/
BEGIN:VEVENT
UID:68001572-f32e-47c3-8449-9e85c2ebc431@www.resthavenbatonrouge.com
DTSTAMP:20260424T210003Z
DTSTART:20260509T180000Z
DTEND:20260509T190000Z
SUMMARY:Memorial Service
DESCRIPTION:
URL:https://www.resthavenbatonrouge.com/obituaries/donald-rudisel
LOCATION:Antioch Community Church of Baton Rouge 151 W Parker Blvd  Baton 
	Rouge LA 70808
GEO:30.4037179;-91.1738894
END:VEVENT
END:VCALENDAR