BEGIN:VCALENDAR
VERSION:2.0
PRODID:-//Tukios.com/
BEGIN:VEVENT
UID:8c6bbf4a-6fd8-4c84-a702-30ea8e6dbcd2@www.resthavenbatonrouge.com
DTSTAMP:20260424T205717Z
DTSTART:20260509T160000Z
DTEND:20260509T180000Z
SUMMARY:Visitation
DESCRIPTION:
URL:https://www.resthavenbatonrouge.com/obituaries/donald-rudisel
LOCATION:Antioch Community Church of Baton Rouge 151 W Parker Blvd  Baton 
	Rouge LA 70808
GEO:30.4037179;-91.1738894
END:VEVENT
END:VCALENDAR