BEGIN:VCALENDAR
VERSION:2.0
PRODID:-//Tukios.com/
BEGIN:VEVENT
UID:caf4fd40-de1e-4291-b878-2deec198509a@www.resthavenbatonrouge.com
DTSTAMP:20260424T210431Z
DTSTART:20260508T220000Z
DTEND:20260509T010000Z
SUMMARY:Visitation
DESCRIPTION:
URL:https://www.resthavenbatonrouge.com/obituaries/donald-rudisel
LOCATION:Antioch Community Church of Baton Rouge 151 W Parker Blvd  Baton 
	Rouge LA 70808
GEO:30.4037179;-91.1738894
END:VEVENT
END:VCALENDAR