BEGIN:VCALENDAR
VERSION:2.0
PRODID:-//Tukios.com/
BEGIN:VEVENT
UID:c39a62c6-f64c-49e5-8e59-9c4883052fc4@www.resthavenbatonrouge.com
DTSTAMP:20260426T024007Z
DTSTART:20260501T140000Z
DTEND:20260501T160000Z
SUMMARY:Visitation
DESCRIPTION:
URL:https://www.resthavenbatonrouge.com/obituaries/larry-aucoin
LOCATION:Pending Pending  Pending LA 00000
GEO:;
END:VEVENT
END:VCALENDAR