BEGIN:VCALENDAR
VERSION:2.0
PRODID:-//Tukios.com/
BEGIN:VEVENT
UID:42aa8189-c1d2-4837-8656-e910cad73501@www.resthavenbatonrouge.com
DTSTAMP:20260426T023353Z
DTSTART:20260501T160000Z
DTEND:20260501T170000Z
SUMMARY:Funeral Service
DESCRIPTION:
URL:https://www.resthavenbatonrouge.com/obituaries/larry-aucoin
LOCATION:Pending Pending  Pending LA 00000
GEO:;
END:VEVENT
END:VCALENDAR