BEGIN:VCALENDAR
VERSION:2.0
PRODID:-//Tukios.com/
BEGIN:VEVENT
UID:0e0665a5-43bb-4bda-ac8c-24e0f00af6c7@www.resthavenbatonrouge.com
DTSTAMP:20260426T023956Z
DTSTART:20260501T170000Z
DTEND:20260501T180000Z
SUMMARY:Burial
DESCRIPTION:
URL:https://www.resthavenbatonrouge.com/obituaries/larry-aucoin
LOCATION: 11817 Jefferson Hwy  Baton Rouge LA 70816
GEO:30.3958591;-91.0471445
END:VEVENT
END:VCALENDAR