BEGIN:VCALENDAR
VERSION:2.0
PRODID:-//Tukios.com/
BEGIN:VEVENT
UID:eb3abf97-91bd-46c0-843a-263a7e316d7f@www.resthavenbatonrouge.com
DTSTAMP:20260423T214334Z
DTSTART:20260516T193000Z
DTEND:20260516T203000Z
SUMMARY:Memorial Service
DESCRIPTION:
URL:https://www.resthavenbatonrouge.com/obituaries/michael-pearson
LOCATION: 11817 Jefferson Hwy  Baton Rouge LA 70816
GEO:30.3958591;-91.0471445
END:VEVENT
END:VCALENDAR