BEGIN:VCALENDAR
VERSION:2.0
PRODID:-//Tukios.com/
BEGIN:VEVENT
UID:c2bbced9-e519-473c-a2bd-5425f12bd693@www.resthavenbatonrouge.com
DTSTAMP:20260423T215112Z
DTSTART:20260516T183000Z
DTEND:20260516T193000Z
SUMMARY:Visitation
DESCRIPTION:
URL:https://www.resthavenbatonrouge.com/obituaries/michael-pearson
LOCATION: 11817 Jefferson Hwy  Baton Rouge LA 70816
GEO:30.3958591;-91.0471445
END:VEVENT
END:VCALENDAR