BEGIN:VCALENDAR
VERSION:2.0
PRODID:-//Tukios.com/
BEGIN:VEVENT
UID:8db092d8-5ee0-4c16-9d0b-1c39291c3e2b@www.resthavenbatonrouge.com
DTSTAMP:20260422T223652Z
DTSTART:20260427T180000Z
DTEND:20260427T200000Z
SUMMARY:Visitation
DESCRIPTION:
URL:https://www.resthavenbatonrouge.com/obituaries/norma-bossaller
LOCATION:Resthaven Gardens of Memory & Funeral Home 11817 Jefferson Hwy.  
	Baton Rouge LA 70816
GEO:30.3958591;-91.0471445
END:VEVENT
END:VCALENDAR