BEGIN:VCALENDAR
VERSION:2.0
PRODID:-//Tukios.com/
BEGIN:VEVENT
UID:4f6cc413-2dd1-4377-893b-efa2ba8a17e1@www.resthavenbatonrouge.com
DTSTAMP:20260422T223820Z
DTSTART:20260427T200000Z
DTEND:20260427T210000Z
SUMMARY:Memorial Service
DESCRIPTION:
URL:https://www.resthavenbatonrouge.com/obituaries/norma-bossaller
LOCATION:Resthaven Gardens of Memory & Funeral Home 11817 Jefferson Hwy.  
	Baton Rouge LA 70816
GEO:30.3958591;-91.0471445
END:VEVENT
END:VCALENDAR