BEGIN:VCALENDAR
VERSION:2.0
PRODID:-//Tukios.com/
BEGIN:VEVENT
UID:6d091f52-a339-4563-bb82-df90883d24a4@www.resthavenbatonrouge.com
DTSTAMP:20260423T012609Z
DTSTART:20260429T170000Z
DTEND:20260429T180000Z
SUMMARY:Mass of Christian Burial
DESCRIPTION:
URL:https://www.resthavenbatonrouge.com/obituaries/richard-salario
LOCATION:St. Luke the Evangelist Catholic Church 910 Cross Gates Blvd.  
	Slidell LA 70461
GEO:30.2911397;-89.7311874
END:VEVENT
END:VCALENDAR