BEGIN:VCALENDAR
VERSION:2.0
PRODID:-//Tukios.com/
BEGIN:VEVENT
UID:7c68b524-5cdd-477e-8903-b9cb624a7153@www.resthavenbatonrouge.com
DTSTAMP:20260423T125711Z
DTSTART:20260429T153000Z
DTEND:20260429T170000Z
SUMMARY:Visitation
DESCRIPTION:
URL:https://www.resthavenbatonrouge.com/obituaries/richard-salario
LOCATION:St. Luke the Evangelist Catholic Church 910 Cross Gates Blvd.  
	Slidell LA 70461
GEO:30.2911397;-89.7311874
END:VEVENT
END:VCALENDAR