BEGIN:VCALENDAR
VERSION:2.0
PRODID:-//Tukios.com/
BEGIN:VEVENT
UID:991a71a2-70de-4768-b4c6-a513d567a993@www.resthavenbatonrouge.com
DTSTAMP:20260423T012726Z
DTSTART:20260429T200000Z
DTEND:20260429T203000Z
SUMMARY:Burial
DESCRIPTION:
URL:https://www.resthavenbatonrouge.com/obituaries/richard-salario
LOCATION: 11817 Jefferson Hwy  Baton Rouge LA 70816
GEO:30.3958591;-91.0471445
END:VEVENT
END:VCALENDAR